BEGIN:VCALENDAR
VERSION:2.0
PRODID:-//MoreDirt v1.0//EN
BEGIN:VEVENT
DTSTAMP:20150730T130000Z
ORGANIZER;CN=Nesta Hill:MAILTO:
STATUS:CONFIRMED
UID:MORESPORTSNETWORK2371
DTSTART:20180609T080000Z
DTEND:20180609T120000Z
SUMMARY:Long Mynd Batch Burner 2018
DESCRIPTION:Long Mynd Batch Burner 2018 - more details: https://www.moredirt.com/event/2371
X-ALT-DESC;FMTTYPE=text/html:Long Mynd Batch Burner 2018 - more details: https://www.moredirt.com/event/2371
LOCATION:
END:VEVENT
END:VCALENDAR