BEGIN:VCALENDAR
VERSION:2.0
PRODID:-//MoreDirt v1.0//EN
BEGIN:VEVENT
DTSTAMP:20150730T130000Z
ORGANIZER;CN=Malverns Festival:MAILTO:
STATUS:CONFIRMED
UID:MORESPORTSNETWORK2344
DTSTART:20180614T080000Z
DTEND:20180617T120000Z
SUMMARY:GT Bicycles Malverns Classic
DESCRIPTION:GT Bicycles Malverns Classic - more details: https://www.moredirt.com/event/2344
X-ALT-DESC;FMTTYPE=text/html:GT Bicycles Malverns Classic - more details: https://www.moredirt.com/event/2344
LOCATION:
END:VEVENT
END:VCALENDAR