BEGIN:VCALENDAR
VERSION:2.0
PRODID:-//MoreDirt v1.0//EN
BEGIN:VEVENT
DTSTAMP:20150730T130000Z
ORGANIZER;CN=Ard Rock:MAILTO:
STATUS:CONFIRMED
UID:MORESPORTSNETWORK2335
DTSTART:20170916T080000Z
DTEND:20170917T120000Z
SUMMARY:Ard Moors 2017
DESCRIPTION:Ard Moors 2017 - more details: https://www.moredirt.com/event/2335
X-ALT-DESC;FMTTYPE=text/html:Ard Moors 2017 - more details: https://www.moredirt.com/event/2335
LOCATION:
END:VEVENT
END:VCALENDAR