BEGIN:VCALENDAR
VERSION:2.0
PRODID:-//MoreDirt v1.0//EN
BEGIN:VEVENT
DTSTAMP:20150730T130000Z
ORGANIZER;CN=Hillside Outside:MAILTO:
STATUS:CONFIRMED
UID:MORESPORTSNETWORK2332
DTSTART:20170820T080000Z
DTEND:20170820T120000Z
SUMMARY:Whyte King and Queen of the Hill: Scottish Open Champs Enduro
DESCRIPTION:Whyte King and Queen of the Hill: Scottish Open Champs Enduro - more details: https://www.moredirt.com/event/2332
X-ALT-DESC;FMTTYPE=text/html:Whyte King and Queen of the Hill: Scottish Open Champs Enduro - more details: https://www.moredirt.com/event/2332
LOCATION:
END:VEVENT
END:VCALENDAR