BEGIN:VCALENDAR
VERSION:2.0
PRODID:-//MoreDirt v1.0//EN
BEGIN:VEVENT
DTSTAMP:20150730T130000Z
ORGANIZER;CN=Hillside Outside:MAILTO:
STATUS:CONFIRMED
UID:MORESPORTSNETWORK2331
DTSTART:20170610T080000Z
DTEND:20170610T120000Z
SUMMARY:Shimano TweedLove International
DESCRIPTION:Shimano TweedLove International - more details: https://www.moredirt.com/event/2331
X-ALT-DESC;FMTTYPE=text/html:Shimano TweedLove International - more details: https://www.moredirt.com/event/2331
LOCATION:
END:VEVENT
END:VCALENDAR