BEGIN:VCALENDAR
VERSION:2.0
PRODID:-//MoreDirt v1.0//EN
BEGIN:VEVENT
DTSTAMP:20150730T130000Z
ORGANIZER;CN=Adam Marcinowicz:MAILTO:
STATUS:CONFIRMED
UID:MORESPORTSNETWORK2325
DTSTART:20170604T080000Z
DTEND:20170604T120000Z
SUMMARY:Effingham MTB Race
DESCRIPTION:Effingham MTB Race - more details: https://www.moredirt.com/event/2325
X-ALT-DESC;FMTTYPE=text/html:Effingham MTB Race - more details: https://www.moredirt.com/event/2325
LOCATION:
END:VEVENT
END:VCALENDAR