BEGIN:VCALENDAR
VERSION:2.0
PRODID:-//MoreDirt v1.0//EN
BEGIN:VEVENT
DTSTAMP:20150730T130000Z
ORGANIZER;CN=MTB Uplifts:MAILTO:
STATUS:CONFIRMED
UID:MORESPORTSNETWORK2324
DTSTART:20170728T080000Z
DTEND:20170728T120000Z
SUMMARY:MTB Uplifts - Moelfre
DESCRIPTION:MTB Uplifts - Moelfre - more details: https://www.moredirt.com/event/2324
X-ALT-DESC;FMTTYPE=text/html:MTB Uplifts - Moelfre - more details: https://www.moredirt.com/event/2324
LOCATION:
END:VEVENT
END:VCALENDAR