BEGIN:VCALENDAR
VERSION:2.0
PRODID:-//MoreDirt v1.0//EN
BEGIN:VEVENT
DTSTAMP:20150730T130000Z
ORGANIZER;CN=NYMBO:MAILTO:
STATUS:CONFIRMED
UID:MORESPORTSNETWORK2322
DTSTART:20170716T080000Z
DTEND:20170716T120000Z
SUMMARY:NYMBO Moors Marathon
DESCRIPTION:NYMBO Moors Marathon - more details: https://www.moredirt.com/event/2322
X-ALT-DESC;FMTTYPE=text/html:NYMBO Moors Marathon - more details: https://www.moredirt.com/event/2322
LOCATION:
END:VEVENT
END:VCALENDAR