BEGIN:VCALENDAR
VERSION:2.0
PRODID:-//MoreDirt v1.0//EN
BEGIN:VEVENT
DTSTAMP:20150730T130000Z
ORGANIZER;CN=FlanRou:MAILTO:
STATUS:CONFIRMED
UID:MORESPORTSNETWORK2312
DTSTART:20170611T080000Z
DTEND:20170611T120000Z
SUMMARY:FlanRou Ribinou 2017 - CX CHALLENGE
DESCRIPTION:FlanRou Ribinou 2017 - CX CHALLENGE - more details: https://www.moredirt.com/event/2312
X-ALT-DESC;FMTTYPE=text/html:FlanRou Ribinou 2017 - CX CHALLENGE - more details: https://www.moredirt.com/event/2312
LOCATION:
END:VEVENT
END:VCALENDAR