BEGIN:VCALENDAR
VERSION:2.0
PRODID:-//MoreDirt v1.0//EN
BEGIN:VEVENT
DTSTAMP:20150730T130000Z
ORGANIZER;CN=Channel Events:MAILTO:
STATUS:CONFIRMED
UID:MORESPORTSNETWORK2302
DTSTART:20170909T080000Z
DTEND:20170909T120000Z
SUMMARY:Mendip Murmuration
DESCRIPTION:Mendip Murmuration - more details: https://www.moredirt.com/event/2302
X-ALT-DESC;FMTTYPE=text/html:Mendip Murmuration - more details: https://www.moredirt.com/event/2302
LOCATION:
END:VEVENT
END:VCALENDAR