BEGIN:VCALENDAR
VERSION:2.0
PRODID:-//MoreDirt v1.0//EN
BEGIN:VEVENT
DTSTAMP:20150730T130000Z
ORGANIZER;CN=Channel Events:MAILTO:
STATUS:CONFIRMED
UID:MORESPORTSNETWORK2301
DTSTART:20170903T080000Z
DTEND:20170903T120000Z
SUMMARY:Quantock Quake
DESCRIPTION:Quantock Quake - more details: https://www.moredirt.com/event/2301
X-ALT-DESC;FMTTYPE=text/html:Quantock Quake - more details: https://www.moredirt.com/event/2301
LOCATION:
END:VEVENT
END:VCALENDAR