BEGIN:VCALENDAR
VERSION:2.0
PRODID:-//MoreDirt v1.0//EN
BEGIN:VEVENT
DTSTAMP:20150730T130000Z
ORGANIZER;CN=James Tennant:MAILTO:
STATUS:CONFIRMED
UID:MORESPORTSNETWORK22
DTSTART:20110423T080000Z
DTEND:20110424T120000Z
SUMMARY:WDMBA Series Round 2
DESCRIPTION:WDMBA Series Round 2 - more details: https://www.moredirt.com/event/22
X-ALT-DESC;FMTTYPE=text/html:WDMBA Series Round 2 - more details: https://www.moredirt.com/event/22
LOCATION:
END:VEVENT
END:VCALENDAR