BEGIN:VCALENDAR
VERSION:2.0
PRODID:-//MoreDirt v1.0//EN
BEGIN:VEVENT
DTSTAMP:20150730T130000Z
ORGANIZER;CN=Crosby Ravensworth Primary School:MAILTO:
STATUS:CONFIRMED
UID:MORESPORTSNETWORK2288
DTSTART:20170624T080000Z
DTEND:20170624T120000Z
SUMMARY:Slack Randy MTB Challenge
DESCRIPTION:Slack Randy MTB Challenge - more details: https://www.moredirt.com/event/2288
X-ALT-DESC;FMTTYPE=text/html:Slack Randy MTB Challenge - more details: https://www.moredirt.com/event/2288
LOCATION:
END:VEVENT
END:VCALENDAR