BEGIN:VCALENDAR
VERSION:2.0
PRODID:-//MoreDirt v1.0//EN
BEGIN:VEVENT
DTSTAMP:20150730T130000Z
ORGANIZER;CN=British Heart Foundation:MAILTO:
STATUS:CONFIRMED
UID:MORESPORTSNETWORK2287
DTSTART:20170813T080000Z
DTEND:20170813T120000Z
SUMMARY:South East Coast Off Road Bike Ride
DESCRIPTION:South East Coast Off Road Bike Ride - more details: https://www.moredirt.com/event/2287
X-ALT-DESC;FMTTYPE=text/html:South East Coast Off Road Bike Ride - more details: https://www.moredirt.com/event/2287
LOCATION:
END:VEVENT
END:VCALENDAR