BEGIN:VCALENDAR
VERSION:2.0
PRODID:-//MoreDirt v1.0//EN
BEGIN:VEVENT
DTSTAMP:20150730T130000Z
ORGANIZER;CN=Rutland Cycling:MAILTO:
STATUS:CONFIRMED
UID:MORESPORTSNETWORK2283
DTSTART:20170521T080000Z
DTEND:20170521T120000Z
SUMMARY:Rutland Cycling Electric Bike Demo Day
DESCRIPTION:Rutland Cycling Electric Bike Demo Day - more details: https://www.moredirt.com/event/2283
X-ALT-DESC;FMTTYPE=text/html:Rutland Cycling Electric Bike Demo Day - more details: https://www.moredirt.com/event/2283
LOCATION:
END:VEVENT
END:VCALENDAR