BEGIN:VCALENDAR
VERSION:2.0
PRODID:-//MoreDirt v1.0//EN
BEGIN:VEVENT
DTSTAMP:20150730T130000Z
ORGANIZER;CN=Life Adventure Ctr:MAILTO:
STATUS:CONFIRMED
UID:MORESPORTSNETWORK2282
DTSTART:20170617T080000Z
DTEND:20170617T120000Z
SUMMARY:Mourne PSYCLE 8
DESCRIPTION:Mourne PSYCLE 8 - more details: https://www.moredirt.com/event/2282
X-ALT-DESC;FMTTYPE=text/html:Mourne PSYCLE 8 - more details: https://www.moredirt.com/event/2282
LOCATION:
END:VEVENT
END:VCALENDAR