BEGIN:VCALENDAR
VERSION:2.0
PRODID:-//MoreDirt v1.0//EN
BEGIN:VEVENT
DTSTAMP:20150730T130000Z
ORGANIZER;CN=Alpine Bikes:MAILTO:
STATUS:CONFIRMED
UID:MORESPORTSNETWORK2277
DTSTART:20170520T080000Z
DTEND:20170521T120000Z
SUMMARY:Nukeproof Demo Weekend
DESCRIPTION:Nukeproof Demo Weekend - more details: https://www.moredirt.com/event/2277
X-ALT-DESC;FMTTYPE=text/html:Nukeproof Demo Weekend - more details: https://www.moredirt.com/event/2277
LOCATION:
END:VEVENT
END:VCALENDAR