BEGIN:VCALENDAR
VERSION:2.0
PRODID:-//MoreDirt v1.0//EN
BEGIN:VEVENT
DTSTAMP:20150730T130000Z
ORGANIZER;CN=Bikepark Wales:MAILTO:
STATUS:CONFIRMED
UID:MORESPORTSNETWORK2271
DTSTART:20170506T080000Z
DTEND:20170507T120000Z
SUMMARY:Bikepark Wales Charity Weekender
DESCRIPTION:Bikepark Wales Charity Weekender - more details: https://www.moredirt.com/event/2271
X-ALT-DESC;FMTTYPE=text/html:Bikepark Wales Charity Weekender - more details: https://www.moredirt.com/event/2271
LOCATION:
END:VEVENT
END:VCALENDAR