BEGIN:VCALENDAR
VERSION:2.0
PRODID:-//MoreDirt v1.0//EN
BEGIN:VEVENT
DTSTAMP:20150730T130000Z
ORGANIZER;CN=Grinduro:MAILTO:
STATUS:CONFIRMED
UID:MORESPORTSNETWORK2269
DTSTART:20170715T080000Z
DTEND:20170715T120000Z
SUMMARY:Grinduro 2017 -  Scotland
DESCRIPTION:Grinduro 2017 -  Scotland - more details: https://www.moredirt.com/event/2269
X-ALT-DESC;FMTTYPE=text/html:Grinduro 2017 -  Scotland - more details: https://www.moredirt.com/event/2269
LOCATION:
END:VEVENT
END:VCALENDAR