BEGIN:VCALENDAR
VERSION:2.0
PRODID:-//MoreDirt v1.0//EN
BEGIN:VEVENT
DTSTAMP:20150730T130000Z
ORGANIZER;CN=DJ Johnson:MAILTO:
STATUS:CONFIRMED
UID:MORESPORTSNETWORK2268
DTSTART:20170409T080000Z
DTEND:20170409T120000Z
SUMMARY:Bike UK Big Day Out
DESCRIPTION:Bike UK Big Day Out - more details: https://www.moredirt.com/event/2268
X-ALT-DESC;FMTTYPE=text/html:Bike UK Big Day Out - more details: https://www.moredirt.com/event/2268
LOCATION:
END:VEVENT
END:VCALENDAR