BEGIN:VCALENDAR
VERSION:2.0
PRODID:-//MoreDirt v1.0//EN
BEGIN:VEVENT
DTSTAMP:20150730T130000Z
ORGANIZER;CN=Northern Grip:MAILTO:
STATUS:CONFIRMED
UID:MORESPORTSNETWORK2246
DTSTART:20170708T080000Z
DTEND:20170709T120000Z
SUMMARY:Northern Grip 2017
DESCRIPTION:Northern Grip 2017 - more details: https://www.moredirt.com/event/2246
X-ALT-DESC;FMTTYPE=text/html:Northern Grip 2017 - more details: https://www.moredirt.com/event/2246
LOCATION:
END:VEVENT
END:VCALENDAR