BEGIN:VCALENDAR
VERSION:2.0
PRODID:-//MoreDirt v1.0//EN
BEGIN:VEVENT
DTSTAMP:20150730T130000Z
ORGANIZER;CN=Biketrax Cycle Shop:MAILTO:
STATUS:CONFIRMED
UID:MORESPORTSNETWORK2239
DTSTART:20170416T080000Z
DTEND:20170416T120000Z
SUMMARY:Biketrax Saracen Demo Day
DESCRIPTION:Biketrax Saracen Demo Day - more details: https://www.moredirt.com/event/2239
X-ALT-DESC;FMTTYPE=text/html:Biketrax Saracen Demo Day - more details: https://www.moredirt.com/event/2239
LOCATION:
END:VEVENT
END:VCALENDAR