BEGIN:VCALENDAR
VERSION:2.0
PRODID:-//MoreDirt v1.0//EN
BEGIN:VEVENT
DTSTAMP:20150730T130000Z
ORGANIZER;CN=Durty Events:MAILTO:
STATUS:CONFIRMED
UID:MORESPORTSNETWORK2232
DTSTART:20170514T080000Z
DTEND:20170514T120000Z
SUMMARY:Orbea Selkirk Moutain Bike Raid
DESCRIPTION:Orbea Selkirk Moutain Bike Raid - more details: https://www.moredirt.com/event/2232
X-ALT-DESC;FMTTYPE=text/html:Orbea Selkirk Moutain Bike Raid - more details: https://www.moredirt.com/event/2232
LOCATION:
END:VEVENT
END:VCALENDAR