BEGIN:VCALENDAR
VERSION:2.0
PRODID:-//MoreDirt v1.0//EN
BEGIN:VEVENT
DTSTAMP:20150730T130000Z
ORGANIZER;CN=Dales Cycles:MAILTO:
STATUS:CONFIRMED
UID:MORESPORTSNETWORK2228
DTSTART:20170416T080000Z
DTEND:20170416T120000Z
SUMMARY:Cube and Specialized MTB & E-Bike Demo Day
DESCRIPTION:Cube and Specialized MTB & E-Bike Demo Day - more details: https://www.moredirt.com/event/2228
X-ALT-DESC;FMTTYPE=text/html:Cube and Specialized MTB & E-Bike Demo Day - more details: https://www.moredirt.com/event/2228
LOCATION:
END:VEVENT
END:VCALENDAR