BEGIN:VCALENDAR
VERSION:2.0
PRODID:-//MoreDirt v1.0//EN
BEGIN:VEVENT
DTSTAMP:20150730T130000Z
ORGANIZER;CN=Dales Cycles:MAILTO:
STATUS:CONFIRMED
UID:MORESPORTSNETWORK2227
DTSTART:20170402T080000Z
DTEND:20170402T120000Z
SUMMARY:Scott and Giant MTB & E-Bike Demo Day
DESCRIPTION:Scott and Giant MTB & E-Bike Demo Day - more details: https://www.moredirt.com/event/2227
X-ALT-DESC;FMTTYPE=text/html:Scott and Giant MTB & E-Bike Demo Day - more details: https://www.moredirt.com/event/2227
LOCATION:
END:VEVENT
END:VCALENDAR