BEGIN:VCALENDAR
VERSION:2.0
PRODID:-//MoreDirt v1.0//EN
BEGIN:VEVENT
DTSTAMP:20150730T130000Z
ORGANIZER;CN=Northern Ride:MAILTO:
STATUS:CONFIRMED
UID:MORESPORTSNETWORK2226
DTSTART:20170604T080000Z
DTEND:20170604T120000Z
SUMMARY:Yorkshire Mountain Bike Marathon 2017
DESCRIPTION:Yorkshire Mountain Bike Marathon 2017 - more details: https://www.moredirt.com/event/2226
X-ALT-DESC;FMTTYPE=text/html:Yorkshire Mountain Bike Marathon 2017 - more details: https://www.moredirt.com/event/2226
LOCATION:
END:VEVENT
END:VCALENDAR