BEGIN:VCALENDAR
VERSION:2.0
PRODID:-//MoreDirt v1.0//EN
BEGIN:VEVENT
DTSTAMP:20150730T130000Z
ORGANIZER;CN=Bikepark Wales:MAILTO:
STATUS:CONFIRMED
UID:MORESPORTSNETWORK2224
DTSTART:20170317T080000+0000
DTEND:20170318T120000+0000
SUMMARY:Dig Bikepark Wales Weekend
DESCRIPTION:Dig Bikepark Wales Weekend - more details: https://www.moredirt.com/event/2224
X-ALT-DESC;FMTTYPE=text/html:Dig Bikepark Wales Weekend - more details: https://www.moredirt.com/event/2224
LOCATION:
END:VEVENT
END:VCALENDAR