BEGIN:VCALENDAR
VERSION:2.0
PRODID:-//MoreDirt v1.0//EN
BEGIN:VEVENT
DTSTAMP:20150730T130000Z
ORGANIZER;CN=Bird Cycleworks:MAILTO:
STATUS:CONFIRMED
UID:MORESPORTSNETWORK2223
DTSTART:20170319T080000+0000
DTEND:20170319T120000+0000
SUMMARY:Bird Cycleworks Cwmcarn Demo Day
DESCRIPTION:Bird Cycleworks Cwmcarn Demo Day - more details: https://www.moredirt.com/event/2223
X-ALT-DESC;FMTTYPE=text/html:Bird Cycleworks Cwmcarn Demo Day - more details: https://www.moredirt.com/event/2223
LOCATION:
END:VEVENT
END:VCALENDAR