BEGIN:VCALENDAR
VERSION:2.0
PRODID:-//MoreDirt v1.0//EN
BEGIN:VEVENT
DTSTAMP:20150730T130000Z
ORGANIZER;CN=Soho Bikes:MAILTO:
STATUS:CONFIRMED
UID:MORESPORTSNETWORK2220
DTSTART:20170304T080000+0000
DTEND:20170304T120000+0000
SUMMARY:Soho Bikes Intense Demo Day
DESCRIPTION:Soho Bikes Intense Demo Day - more details: https://www.moredirt.com/event/2220
X-ALT-DESC;FMTTYPE=text/html:Soho Bikes Intense Demo Day - more details: https://www.moredirt.com/event/2220
LOCATION:
END:VEVENT
END:VCALENDAR