BEGIN:VCALENDAR
VERSION:2.0
PRODID:-//MoreDirt v1.0//EN
BEGIN:VEVENT
DTSTAMP:20150730T130000Z
ORGANIZER;CN=Alpine Bikes:MAILTO:
STATUS:CONFIRMED
UID:MORESPORTSNETWORK2216
DTSTART:20170318T080000+0000
DTEND:20170318T120000+0000
SUMMARY:Cube Demo Weekend
DESCRIPTION:Cube Demo Weekend - more details: https://www.moredirt.com/event/2216
X-ALT-DESC;FMTTYPE=text/html:Cube Demo Weekend - more details: https://www.moredirt.com/event/2216
LOCATION:
END:VEVENT
END:VCALENDAR