BEGIN:VCALENDAR
VERSION:2.0
PRODID:-//MoreDirt v1.0//EN
BEGIN:VEVENT
DTSTAMP:20150730T130000Z
ORGANIZER;CN=:MAILTO:
STATUS:CONFIRMED
UID:MORESPORTSNETWORK2212
DTSTART:20170331T080000Z
DTEND:20170331T120000Z
SUMMARY:Skelf Bike Park Opening Party
DESCRIPTION:Skelf Bike Park Opening Party - more details: https://www.moredirt.com/event/2212
X-ALT-DESC;FMTTYPE=text/html:Skelf Bike Park Opening Party - more details: https://www.moredirt.com/event/2212
LOCATION:
END:VEVENT
END:VCALENDAR