BEGIN:VCALENDAR
VERSION:2.0
PRODID:-//MoreDirt v1.0//EN
BEGIN:VEVENT
DTSTAMP:20150730T130000Z
ORGANIZER;CN=The Distance:MAILTO:
STATUS:CONFIRMED
UID:MORESPORTSNETWORK2210
DTSTART:20170610T080000Z
DTEND:20170611T120000Z
SUMMARY:The Distance
DESCRIPTION:The Distance - more details: https://www.moredirt.com/event/2210
X-ALT-DESC;FMTTYPE=text/html:The Distance - more details: https://www.moredirt.com/event/2210
LOCATION:
END:VEVENT
END:VCALENDAR