BEGIN:VCALENDAR
VERSION:2.0
PRODID:-//MoreDirt v1.0//EN
BEGIN:VEVENT
DTSTAMP:20150730T130000Z
ORGANIZER;CN=Carrick Riders:MAILTO:
STATUS:CONFIRMED
UID:MORESPORTSNETWORK2206
DTSTART:20170423T080000Z
DTEND:20170423T120000Z
SUMMARY:Falmouth Urban Downhill 2017
DESCRIPTION:Falmouth Urban Downhill 2017 - more details: https://www.moredirt.com/event/2206
X-ALT-DESC;FMTTYPE=text/html:Falmouth Urban Downhill 2017 - more details: https://www.moredirt.com/event/2206
LOCATION:
END:VEVENT
END:VCALENDAR