BEGIN:VCALENDAR
VERSION:2.0
PRODID:-//MoreDirt v1.0//EN
BEGIN:VEVENT
DTSTAMP:20150730T130000Z
ORGANIZER;CN=Hale's Board and Bike Park:MAILTO:
STATUS:CONFIRMED
UID:MORESPORTSNETWORK2203
DTSTART:20170226T080000+0000
DTEND:20170226T120000+0000
SUMMARY:Hale's Winter 4X Series RD2 2017
DESCRIPTION:Hale's Winter 4X Series RD2 2017 - more details: https://www.moredirt.com/event/2203
X-ALT-DESC;FMTTYPE=text/html:Hale's Winter 4X Series RD2 2017 - more details: https://www.moredirt.com/event/2203
LOCATION:
END:VEVENT
END:VCALENDAR