BEGIN:VCALENDAR
VERSION:2.0
PRODID:-//MoreDirt v1.0//EN
BEGIN:VEVENT
DTSTAMP:20150730T130000Z
ORGANIZER;CN=Pedal A Bike Away:MAILTO:
STATUS:CONFIRMED
UID:MORESPORTSNETWORK2202
DTSTART:20170401T080000Z
DTEND:20170401T120000Z
SUMMARY:Twilight Enduro 2017 - Forest of Dean
DESCRIPTION:Twilight Enduro 2017 - Forest of Dean - more details: https://www.moredirt.com/event/2202
X-ALT-DESC;FMTTYPE=text/html:Twilight Enduro 2017 - Forest of Dean - more details: https://www.moredirt.com/event/2202
LOCATION:
END:VEVENT
END:VCALENDAR