BEGIN:VCALENDAR
VERSION:2.0
PRODID:-//MoreDirt v1.0//EN
BEGIN:VEVENT
DTSTAMP:20150730T130000Z
ORGANIZER;CN=David Bland:MAILTO:
STATUS:CONFIRMED
UID:MORESPORTSNETWORK2201
DTSTART:20170520T080000Z
DTEND:20170520T120000Z
SUMMARY:Alton Bike Challenge
DESCRIPTION:Alton Bike Challenge - more details: https://www.moredirt.com/event/2201
X-ALT-DESC;FMTTYPE=text/html:Alton Bike Challenge - more details: https://www.moredirt.com/event/2201
LOCATION:
END:VEVENT
END:VCALENDAR