BEGIN:VCALENDAR
VERSION:2.0
PRODID:-//MoreDirt v1.0//EN
BEGIN:VEVENT
DTSTAMP:20150730T130000Z
ORGANIZER;CN=Air Maiden:MAILTO:
STATUS:CONFIRMED
UID:MORESPORTSNETWORK2199
DTSTART:20170722T080000Z
DTEND:20170722T120000Z
SUMMARY:Enduro Maiden 2017
DESCRIPTION:Enduro Maiden 2017 - more details: https://www.moredirt.com/event/2199
X-ALT-DESC;FMTTYPE=text/html:Enduro Maiden 2017 - more details: https://www.moredirt.com/event/2199
LOCATION:
END:VEVENT
END:VCALENDAR