BEGIN:VCALENDAR
VERSION:2.0
PRODID:-//MoreDirt v1.0//EN
BEGIN:VEVENT
DTSTAMP:20150730T130000Z
ORGANIZER;CN=Ystwyth Juniors:MAILTO:
STATUS:CONFIRMED
UID:MORESPORTSNETWORK2186
DTSTART:20170212T080000+0000
DTEND:20170212T120000+0000
SUMMARY:Mid Wales MTB Series Round 1
DESCRIPTION:Mid Wales MTB Series Round 1 - more details: https://www.moredirt.com/event/2186
X-ALT-DESC;FMTTYPE=text/html:Mid Wales MTB Series Round 1 - more details: https://www.moredirt.com/event/2186
LOCATION:
END:VEVENT
END:VCALENDAR