BEGIN:VCALENDAR
VERSION:2.0
PRODID:-//MoreDirt v1.0//EN
BEGIN:VEVENT
DTSTAMP:20150730T130000Z
ORGANIZER;CN=Coupar Angus Cycling Hub:MAILTO:
STATUS:CONFIRMED
UID:MORESPORTSNETWORK2185
DTSTART:20170610T080000Z
DTEND:20170611T120000Z
SUMMARY:Ballo Enduro 2017
DESCRIPTION:Ballo Enduro 2017 - more details: https://www.moredirt.com/event/2185
X-ALT-DESC;FMTTYPE=text/html:Ballo Enduro 2017 - more details: https://www.moredirt.com/event/2185
LOCATION:
END:VEVENT
END:VCALENDAR