BEGIN:VCALENDAR
VERSION:2.0
PRODID:-//MoreDirt v1.0//EN
BEGIN:VEVENT
DTSTAMP:20150730T130000Z
ORGANIZER;CN=Whinlatter Forest:MAILTO:
STATUS:CONFIRMED
UID:MORESPORTSNETWORK2166
DTSTART:20170211T080000+0000
DTEND:20170211T120000+0000
SUMMARY:Whinlatter Forest Dig Day
DESCRIPTION:Whinlatter Forest Dig Day - more details: https://www.moredirt.com/event/2166
X-ALT-DESC;FMTTYPE=text/html:Whinlatter Forest Dig Day - more details: https://www.moredirt.com/event/2166
LOCATION:
END:VEVENT
END:VCALENDAR