BEGIN:VCALENDAR
VERSION:2.0
PRODID:-//MoreDirt v1.0//EN
BEGIN:VEVENT
DTSTAMP:20150730T130000Z
ORGANIZER;CN=Leisure Lakes Bikes:MAILTO:
STATUS:CONFIRMED
UID:MORESPORTSNETWORK2165
DTSTART:20170318T080000+0000
DTEND:20170319T120000+0000
SUMMARY:Leisure Lakes Demo Weekend 2017
DESCRIPTION:Leisure Lakes Demo Weekend 2017 - more details: https://www.moredirt.com/event/2165
X-ALT-DESC;FMTTYPE=text/html:Leisure Lakes Demo Weekend 2017 - more details: https://www.moredirt.com/event/2165
LOCATION:
END:VEVENT
END:VCALENDAR