BEGIN:VCALENDAR
VERSION:2.0
PRODID:-//MoreDirt v1.0//EN
BEGIN:VEVENT
DTSTAMP:20150730T130000Z
ORGANIZER;CN=:MAILTO:
STATUS:CONFIRMED
UID:MORESPORTSNETWORK2149
DTSTART:20170707T080000Z
DTEND:20170709T120000Z
SUMMARY:Girls at Gawton Weekend
DESCRIPTION:Girls at Gawton Weekend - more details: https://www.moredirt.com/event/2149
X-ALT-DESC;FMTTYPE=text/html:Girls at Gawton Weekend - more details: https://www.moredirt.com/event/2149
LOCATION:
END:VEVENT
END:VCALENDAR