BEGIN:VCALENDAR
VERSION:2.0
PRODID:-//MoreDirt v1.0//EN
BEGIN:VEVENT
DTSTAMP:20150730T130000Z
ORGANIZER;CN=Innerleithen Cycle Club:MAILTO:
STATUS:CONFIRMED
UID:MORESPORTSNETWORK2135
DTSTART:20170305T080000+0000
DTEND:20170305T120000+0000
SUMMARY:Elliot Campbell Memorial Mountain Time Trial
DESCRIPTION:Elliot Campbell Memorial Mountain Time Trial - more details: https://www.moredirt.com/event/2135
X-ALT-DESC;FMTTYPE=text/html:Elliot Campbell Memorial Mountain Time Trial - more details: https://www.moredirt.com/event/2135
LOCATION:
END:VEVENT
END:VCALENDAR