BEGIN:VCALENDAR
VERSION:2.0
PRODID:-//MoreDirt v1.0//EN
BEGIN:VEVENT
DTSTAMP:20150730T130000Z
ORGANIZER;CN=Start Fitness:MAILTO:
STATUS:CONFIRMED
UID:MORESPORTSNETWORK2129
DTSTART:20170304T080000+0000
DTEND:20170304T120000+0000
SUMMARY:Santa Cruz Bikes Demo Day - Hamsterley Forest
DESCRIPTION:Santa Cruz Bikes Demo Day - Hamsterley Forest - more details: https://www.moredirt.com/event/2129
X-ALT-DESC;FMTTYPE=text/html:Santa Cruz Bikes Demo Day - Hamsterley Forest - more details: https://www.moredirt.com/event/2129
LOCATION:
END:VEVENT
END:VCALENDAR