BEGIN:VCALENDAR
VERSION:2.0
PRODID:-//MoreDirt v1.0//EN
BEGIN:VEVENT
DTSTAMP:20150730T130000Z
ORGANIZER;CN=26 Extreme:MAILTO:
STATUS:CONFIRMED
UID:MORESPORTSNETWORK2121
DTSTART:20170722T080000Z
DTEND:20170722T120000Z
SUMMARY:10 in the Glen
DESCRIPTION:10 in the Glen - more details: https://www.moredirt.com/event/2121
X-ALT-DESC;FMTTYPE=text/html:10 in the Glen - more details: https://www.moredirt.com/event/2121
LOCATION:
END:VEVENT
END:VCALENDAR