BEGIN:VCALENDAR
VERSION:2.0
PRODID:-//MoreDirt v1.0//EN
BEGIN:VEVENT
DTSTAMP:20150730T130000Z
ORGANIZER;CN=British Heart Foundation:MAILTO:
STATUS:CONFIRMED
UID:MORESPORTSNETWORK2120
DTSTART:20170923T080000Z
DTEND:20170923T120000Z
SUMMARY:London to Brighton Off-Road Bike Ride
DESCRIPTION:London to Brighton Off-Road Bike Ride - more details: https://www.moredirt.com/event/2120
X-ALT-DESC;FMTTYPE=text/html:London to Brighton Off-Road Bike Ride - more details: https://www.moredirt.com/event/2120
LOCATION:
END:VEVENT
END:VCALENDAR