BEGIN:VCALENDAR
VERSION:2.0
PRODID:-//MoreDirt v1.0//EN
BEGIN:VEVENT
DTSTAMP:20150730T130000Z
ORGANIZER;CN=Mtb Epics UK:MAILTO:
STATUS:CONFIRMED
UID:MORESPORTSNETWORK2119
DTSTART:20170520T080000Z
DTEND:20170520T120000Z
SUMMARY:Land's End to Bristol Mountain Bike Adventure
DESCRIPTION:Land's End to Bristol Mountain Bike Adventure - more details: https://www.moredirt.com/event/2119
X-ALT-DESC;FMTTYPE=text/html:Land's End to Bristol Mountain Bike Adventure - more details: https://www.moredirt.com/event/2119
LOCATION:
END:VEVENT
END:VCALENDAR