BEGIN:VCALENDAR
VERSION:2.0
PRODID:-//MoreDirt v1.0//EN
BEGIN:VEVENT
DTSTAMP:20150730T130000Z
ORGANIZER;CN=Tom Dowie:MAILTO:
STATUS:CONFIRMED
UID:MORESPORTSNETWORK2118
DTSTART:20170205T080000+0000
DTEND:20170205T120000+0000
SUMMARY:Chicksands Dual Slalom Race
DESCRIPTION:Chicksands Dual Slalom Race - more details: https://www.moredirt.com/event/2118
X-ALT-DESC;FMTTYPE=text/html:Chicksands Dual Slalom Race - more details: https://www.moredirt.com/event/2118
LOCATION:
END:VEVENT
END:VCALENDAR