BEGIN:VCALENDAR
VERSION:2.0
PRODID:-//MoreDirt v1.0//EN
BEGIN:VEVENT
DTSTAMP:20150730T130000Z
ORGANIZER;CN=Firecrest MTB:MAILTO:
STATUS:CONFIRMED
UID:MORESPORTSNETWORK2104
DTSTART:20170312T080000+0000
DTEND:20170312T120000+0000
SUMMARY:Aston Hill Downhill Series 2017 - Ricochet
DESCRIPTION:Aston Hill Downhill Series 2017 - Ricochet - more details: https://www.moredirt.com/event/2104
X-ALT-DESC;FMTTYPE=text/html:Aston Hill Downhill Series 2017 - Ricochet - more details: https://www.moredirt.com/event/2104
LOCATION:
END:VEVENT
END:VCALENDAR