BEGIN:VCALENDAR
VERSION:2.0
PRODID:-//MoreDirt v1.0//EN
BEGIN:VEVENT
DTSTAMP:20150730T130000Z
ORGANIZER;CN=BikinCyprus Events:MAILTO:
STATUS:CONFIRMED
UID:MORESPORTSNETWORK2073
DTSTART:20170223T080000+0000
DTEND:20170226T120000+0000
SUMMARY:Cyprus Sunshine Cup 2017
DESCRIPTION:Cyprus Sunshine Cup 2017 - more details: https://www.moredirt.com/event/2073
X-ALT-DESC;FMTTYPE=text/html:Cyprus Sunshine Cup 2017 - more details: https://www.moredirt.com/event/2073
LOCATION:
END:VEVENT
END:VCALENDAR